BEGIN:VCALENDAR
VERSION:2.0
PRODID:-//June Farms - ECPv6.15.17.1//NONSGML v1.0//EN
CALSCALE:GREGORIAN
METHOD:PUBLISH
X-WR-CALNAME:June Farms
X-ORIGINAL-URL:https://junefarms.com
X-WR-CALDESC:Events for June Farms
REFRESH-INTERVAL;VALUE=DURATION:PT1H
X-Robots-Tag:noindex
X-PUBLISHED-TTL:PT1H
BEGIN:VTIMEZONE
TZID:America/Detroit
BEGIN:DAYLIGHT
TZOFFSETFROM:-0500
TZOFFSETTO:-0400
TZNAME:EDT
DTSTART:20230312T070000
END:DAYLIGHT
BEGIN:STANDARD
TZOFFSETFROM:-0400
TZOFFSETTO:-0500
TZNAME:EST
DTSTART:20231105T060000
END:STANDARD
BEGIN:DAYLIGHT
TZOFFSETFROM:-0500
TZOFFSETTO:-0400
TZNAME:EDT
DTSTART:20240310T070000
END:DAYLIGHT
BEGIN:STANDARD
TZOFFSETFROM:-0400
TZOFFSETTO:-0500
TZNAME:EST
DTSTART:20241103T060000
END:STANDARD
BEGIN:DAYLIGHT
TZOFFSETFROM:-0500
TZOFFSETTO:-0400
TZNAME:EDT
DTSTART:20250309T070000
END:DAYLIGHT
BEGIN:STANDARD
TZOFFSETFROM:-0400
TZOFFSETTO:-0500
TZNAME:EST
DTSTART:20251102T060000
END:STANDARD
END:VTIMEZONE
BEGIN:VEVENT
DTSTART;TZID=America/Detroit:20240202T170000
DTEND;TZID=America/Detroit:20240202T220000
DTSTAMP:20260420T082248
CREATED:20240102T212425Z
LAST-MODIFIED:20240522T205716Z
UID:10004738-1706893200-1706911200@junefarms.com
SUMMARY:Friday Nights at June Farms:  Pizza & Cocktail Bar Open!
DESCRIPTION:CLICK HERE FOR TICKETS! \nMake your Own Pizza – OR – go to the food barn and order off the full menu!  You can come straight to the farm\, you dont need to participate in the Pizza Class.  They also have pizza on the menu if you’d like us to make it for you! \nCome experience the beauty of June Farms and the fun that is the June Farms Pony Barn! In the Off Season (January – May)\, the Pony Barn is open on Fridays for you to enjoy! There is a full cocktail bar\, and a full food menu from Crafted Catering. \nKids and dogs are welcome ! \nNo reservations needed\, but if you’d like a table waiting for you when you arrive and have more than 4 people in your party\, reach out to Matt at (518) 444-3276 and he can help you. \nMake Your Own Pizza Experience is $25/person\, otherwise it’s $5 admission. \nFor more information on June Farms\, or to book your own luxury cabin\, please visit JuneFarms.com \nWe take cash\, credit and June Farms Gift Cards at June Farms. \nFriday Menu: \nWood Fired Pizzas – and- \nLemon Garlic Hummus with Zacks Mighty Tortilla Chips\, Cukes & Carrots – $14\nFarm Salad\, Romaine\, Baby Greens Maple Dijon Dressing – $13\nCuban Sandwich\, Pickles\, Dijonnaise\, Ham\, Swiss\, Kettle Chips $16\nBroccoli & Ricotta Cheese Calzone\, Marinara – $14\nChicken Parm Calzone\, Fresh Mozz\, Basil\, Oregano\, Marinara\, $15\nCheesecake Chocolate Chip Brownie – $5
URL:https://junefarms.com/event/friday-nights-at-june-farms-pizza-cocktail-bar-open/2024-02-02/
ATTACH;FMTTYPE=image/jpeg:https://eadn-wc01-9006830.nxedge.io/wp-content/uploads/2023/11/Make-Your-Own-Wood-Fired-Pizza.jpg
END:VEVENT
BEGIN:VEVENT
DTSTART;TZID=America/Detroit:20240216T170000
DTEND;TZID=America/Detroit:20240216T220000
DTSTAMP:20260420T082248
CREATED:20240102T212425Z
LAST-MODIFIED:20240522T205716Z
UID:10004739-1708102800-1708120800@junefarms.com
SUMMARY:Friday Nights at June Farms:  Pizza & Cocktail Bar Open!
DESCRIPTION:CLICK HERE FOR TICKETS! \nMake your Own Pizza – OR – go to the food barn and order off the full menu!  You can come straight to the farm\, you dont need to participate in the Pizza Class.  They also have pizza on the menu if you’d like us to make it for you! \nCome experience the beauty of June Farms and the fun that is the June Farms Pony Barn! In the Off Season (January – May)\, the Pony Barn is open on Fridays for you to enjoy! There is a full cocktail bar\, and a full food menu from Crafted Catering. \nKids and dogs are welcome ! \nNo reservations needed\, but if you’d like a table waiting for you when you arrive and have more than 4 people in your party\, reach out to Matt at (518) 444-3276 and he can help you. \nMake Your Own Pizza Experience is $25/person\, otherwise it’s $5 admission. \nFor more information on June Farms\, or to book your own luxury cabin\, please visit JuneFarms.com \nWe take cash\, credit and June Farms Gift Cards at June Farms. \nFriday Menu: \nWood Fired Pizzas – and- \nLemon Garlic Hummus with Zacks Mighty Tortilla Chips\, Cukes & Carrots – $14\nFarm Salad\, Romaine\, Baby Greens Maple Dijon Dressing – $13\nCuban Sandwich\, Pickles\, Dijonnaise\, Ham\, Swiss\, Kettle Chips $16\nBroccoli & Ricotta Cheese Calzone\, Marinara – $14\nChicken Parm Calzone\, Fresh Mozz\, Basil\, Oregano\, Marinara\, $15\nCheesecake Chocolate Chip Brownie – $5
URL:https://junefarms.com/event/friday-nights-at-june-farms-pizza-cocktail-bar-open/2024-02-16/
ATTACH;FMTTYPE=image/jpeg:https://eadn-wc01-9006830.nxedge.io/wp-content/uploads/2023/11/Make-Your-Own-Wood-Fired-Pizza.jpg
END:VEVENT
BEGIN:VEVENT
DTSTART;TZID=America/Detroit:20240223T170000
DTEND;TZID=America/Detroit:20240223T220000
DTSTAMP:20260420T082248
CREATED:20240102T212425Z
LAST-MODIFIED:20240522T205716Z
UID:10004740-1708707600-1708725600@junefarms.com
SUMMARY:Friday Nights at June Farms:  Pizza & Cocktail Bar Open!
DESCRIPTION:CLICK HERE FOR TICKETS! \nMake your Own Pizza – OR – go to the food barn and order off the full menu!  You can come straight to the farm\, you dont need to participate in the Pizza Class.  They also have pizza on the menu if you’d like us to make it for you! \nCome experience the beauty of June Farms and the fun that is the June Farms Pony Barn! In the Off Season (January – May)\, the Pony Barn is open on Fridays for you to enjoy! There is a full cocktail bar\, and a full food menu from Crafted Catering. \nKids and dogs are welcome ! \nNo reservations needed\, but if you’d like a table waiting for you when you arrive and have more than 4 people in your party\, reach out to Matt at (518) 444-3276 and he can help you. \nMake Your Own Pizza Experience is $25/person\, otherwise it’s $5 admission. \nFor more information on June Farms\, or to book your own luxury cabin\, please visit JuneFarms.com \nWe take cash\, credit and June Farms Gift Cards at June Farms. \nFriday Menu: \nWood Fired Pizzas – and- \nLemon Garlic Hummus with Zacks Mighty Tortilla Chips\, Cukes & Carrots – $14\nFarm Salad\, Romaine\, Baby Greens Maple Dijon Dressing – $13\nCuban Sandwich\, Pickles\, Dijonnaise\, Ham\, Swiss\, Kettle Chips $16\nBroccoli & Ricotta Cheese Calzone\, Marinara – $14\nChicken Parm Calzone\, Fresh Mozz\, Basil\, Oregano\, Marinara\, $15\nCheesecake Chocolate Chip Brownie – $5
URL:https://junefarms.com/event/friday-nights-at-june-farms-pizza-cocktail-bar-open/2024-02-23/
ATTACH;FMTTYPE=image/jpeg:https://eadn-wc01-9006830.nxedge.io/wp-content/uploads/2023/11/Make-Your-Own-Wood-Fired-Pizza.jpg
END:VEVENT
END:VCALENDAR