BEGIN:VCALENDAR
VERSION:2.0
PRODID:-//June Farms - ECPv6.15.17.1//NONSGML v1.0//EN
CALSCALE:GREGORIAN
METHOD:PUBLISH
X-WR-CALNAME:June Farms
X-ORIGINAL-URL:https://junefarms.com
X-WR-CALDESC:Events for June Farms
REFRESH-INTERVAL;VALUE=DURATION:PT1H
X-Robots-Tag:noindex
X-PUBLISHED-TTL:PT1H
BEGIN:VTIMEZONE
TZID:America/Detroit
BEGIN:DAYLIGHT
TZOFFSETFROM:-0500
TZOFFSETTO:-0400
TZNAME:EDT
DTSTART:20250309T070000
END:DAYLIGHT
BEGIN:STANDARD
TZOFFSETFROM:-0400
TZOFFSETTO:-0500
TZNAME:EST
DTSTART:20251102T060000
END:STANDARD
BEGIN:DAYLIGHT
TZOFFSETFROM:-0500
TZOFFSETTO:-0400
TZNAME:EDT
DTSTART:20260308T070000
END:DAYLIGHT
BEGIN:STANDARD
TZOFFSETFROM:-0400
TZOFFSETTO:-0500
TZNAME:EST
DTSTART:20261101T060000
END:STANDARD
BEGIN:DAYLIGHT
TZOFFSETFROM:-0500
TZOFFSETTO:-0400
TZNAME:EDT
DTSTART:20270314T070000
END:DAYLIGHT
BEGIN:STANDARD
TZOFFSETFROM:-0400
TZOFFSETTO:-0500
TZNAME:EST
DTSTART:20271107T060000
END:STANDARD
END:VTIMEZONE
BEGIN:VEVENT
DTSTART;TZID=America/Detroit:20260624T170000
DTEND;TZID=America/Detroit:20260624T230000
DTSTAMP:20260425T200448
CREATED:20260414T172510Z
LAST-MODIFIED:20260414T172815Z
UID:10017693-1782320400-1782342000@junefarms.com
SUMMARY:Pride Night! 🌈
DESCRIPTION:  \nCLICK HERE FOR TICKETS! \nOur popular Pride Party is BACK! If the event is sold out\, we will NOT be selling additional tickets at the gate. So please get your tickets ahead of time because it always sells out! \nAlthough this event is all ages\, the VIP Barn is 21+ ONLY. \nDogs are NOT ALLOWED at this event\, sorry! \nWe will be charging for parking $20 per car on the night of the vent. PLEASE CARPOOL. There is NO CHARGE to be dropped off or to take an Uber/Lyft. \nJoin us Wednesday\, June 24 for Pride Night at June Farms. Celebrate Pride Month with food\, drinks\, music and dancing! \nWe will have 1 food truck that evening\, as well as our very own Snack Bar!  Our huge Event Tent is open for cocktails with a DJ for dancing! \nInside The Pony Barn is our VIP Barn where there will be cocktails for sale\, sexy bartenders\, and a meet & greet with the Drag Queens after the tent performance! \n\nGeneral Admission Tickets which includes access to the Event Tent are $20/person.\nVIP Tickets\, which includes General Admission\, access to the Event Tent\, and VIP Barn are $40/person.\nBabies 3 and under are FREE.\n\nWhether or not you have VIP Barn tickets\, you will be allowed to go into the Event Tent for performances\, and be able to walk around the farm to meet all of our happy farm animals! \nArrive early to get good seats and let the fun begin! \nCancellations made with at least 7 days notice will receive a refund credit in the form of a gift card. There will be no refunds within 7 days of the event. You are welcome to transfer your tickets to friends/family.
URL:https://junefarms.com/event/pride-night-%f0%9f%8c%88/
ATTACH;FMTTYPE=image/png:https://eadn-wc01-9006830.nxedge.io/wp-content/uploads/2026/04/Gay-Pride-Night-Facebook-Cover-2.png
END:VEVENT
BEGIN:VEVENT
DTSTART;TZID=America/Detroit:20260629T090000
DTEND;TZID=America/Detroit:20260629T150000
DTSTAMP:20260425T200448
CREATED:20260202T182858Z
LAST-MODIFIED:20260202T183031Z
UID:10017351-1782723600-1782745200@junefarms.com
SUMMARY:Little Farmers Summer Camp
DESCRIPTION:  \nCLICK HERE TO REGISTER! \nEvent Details \nAges: 6–12 years\nSchedule: Monday–Friday\nTime: 9:00 AM – 3:00 PM (aftercare available)\nCost: $370 + tax per child \nSession Dates:\nWeek 1: June 29 – July 3\nWeek 2: July 6 – 10\nWeek 3: July 13 – 17\nWeek 4: July 20 – 24\nWeek 5: July 27 – 31\nWeek 6: August 3 – 7\nWeek 7: August 10 – 14\nWeek 8: August 17 – 21\nWeek 9: August 24 – 28\nWeek 10: August 31 – Sept 4\nEach week is filled with animal care\, arts & crafts\, storytelling\, forest exploration\, light exercise and plenty of fresh air! \nImportant Information:\nEach session is limited to 10 campers to ensure a small-group experience.\nEvery session offers a unique experience\, making it perfect for returning campers.\nOptional extended care pricing available. $175 per camper\nA $25 late pickup fee will be charged for every 15 minutes past the scheduled pickup time. \nRegistration Information:\n● Registration opens February 2\, 2026\, at 9:00 am.\n● The cost of the camp is $370 + tax per week per camper. \nCancellation policy:\nYou may cancel your registration in writing up to June 1\, 2026. You will be refunded 70% of the pre-paid program fee. No refunds will be given after June 1\, 2026\nAny change in camp sessions will incur a $20 administrative fee. No changes are permitted after June 16\, 2025.\nChildren who are dismissed or absent from camp will not be entitled to a refund\, credit\, or exchange of dates.\nIf your camper needs special accommodations\, please contact us before registering. \nTo note:\nChildren must bring their own lunches\, water bottles and snacks.\nChildren should wear clothing that they don’t mind getting a little dirty\, because of the playing\, arts and crats and playing with the farm animals. Camp is Rain or Shine so please dress them in appropriate footwear and clothing. NO flip-flops allowed. Also\, pack sunscreen\, bug spray\, and a hat.\nA waiver and detailed information form will be emailed to you for completion before camp date.\nUnfortunately\, we cannot accommodate children with hay or grass allergies. \nContact Information \nIf you have questions\, please call 518-444-3276 or email hello@junefarms.com.\nwww.junefarms.com \nRegulatory Disclosure:\nPlease be advised this program operates outside of New York State Department of Health camp regulations. It is not inspected or regulated by the DOH and is not required to meet DOH requirements related to staffing ratios\, medical personnel\, or injury reporting. While this program is not subject to DOH oversight\, we are committed to providing a safe\, well-supervised\, and positive experience for all participants and follow general safety practices appropriate to the activities offered. By enrolling your child\, you acknowledge receipt and understanding of this disclosure.
URL:https://junefarms.com/event/little-farmers-summer-camp/2026-06-29/
ATTACH;FMTTYPE=image/png:https://eadn-wc01-9006830.nxedge.io/wp-content/uploads/2026/02/1.png
END:VEVENT
BEGIN:VEVENT
DTSTART;TZID=America/Detroit:20260712T120000
DTEND;TZID=America/Detroit:20260712T130000
DTSTAMP:20260425T200448
CREATED:20260415T003714Z
LAST-MODIFIED:20260415T003714Z
UID:10017694-1783857600-1783861200@junefarms.com
SUMMARY:MossBossNYC + Sip Class
DESCRIPTION:GET TICKETS HERE! \nBack by nature-loving demand—MossBoss NYC brings its signature Moss & Sip experience to June Farms!\n\nJoin MossBoss NYC for a one-of-a-kind\, hands-on moss art workshop set against the breathtaking backdrop of June Farms on Sunday\, July 12th. This isn’t your typical class—it’s a creative escape into nature\, where design meets relaxation\, and every guest leaves with their own living-inspired work of art.\n\nExpect lush preserved moss\, beautiful vessels\, and a guided (but creatively open) experience where there’s no right or wrong—just your imagination. Whether you’re coming solo\, with friends\, or as a date\, this experience blends artistry\, mindfulness\, and a touch of farm magic.\n\nSip\, create\, and unwind as you build your own moss bowl using premium preserved moss—no watering\, no sunlight\, no maintenance required. Just pure\, lasting beauty.\n\nThis is more than a workshop—it’s a full sensory experience. Fresh air\, creative energy\, and the peaceful charm of the farm come together for an unforgettable afternoon.\n\nStick around after the class to explore the property\, meet the animals\, and capture a few photos—because pieces this good (and moments like these) deserve to be shared.\n\nCome ready to create\, relax\, and bring a little piece of nature home with you.\n\n\n\nWHO IS MossBoss NYC?\n\nFounded by NYC artist Adzi Jasari\, MossBoss NYC is a Brooklyn-based studio specializing in custom preserved moss art\, installations\, and immersive workshops. Known for transforming natural elements into modern\, low-maintenance design\, MossBoss brings the outdoors in—without the need for watering or sunlight.\n\nWhat started as a passion project quickly evolved into a sought-after creative brand\, working with both residential and commercial clients across New York and beyond. Each piece is handcrafted using premium preserved moss\, offering a sustainable\, biophilic design experience that enhances any space.\n\nMossBoss NYC’s signature Moss & Sip workshops have become a favorite for team-building events\, date nights\, and creative gatherings—encouraging guests to disconnect\, get hands-on\, and tap into their creativity in a relaxed\, welcoming environment.\n\nNow bringing that same energy to June Farms\, MossBoss NYC invites you to experience nature in a whole new way.
URL:https://junefarms.com/event/mossbossnyc-sip-class/2026-07-12/1/
ATTACH;FMTTYPE=image/jpeg:https://eadn-wc01-9006830.nxedge.io/wp-content/uploads/2026/04/Adzi_July.jpg
END:VEVENT
BEGIN:VEVENT
DTSTART;TZID=America/Detroit:20260725T110000
DTEND;TZID=America/Detroit:20260725T190000
DTSTAMP:20260425T200448
CREATED:20260421T001853Z
LAST-MODIFIED:20260421T001853Z
UID:10017774-1784977200-1785006000@junefarms.com
SUMMARY:Kite Festival
DESCRIPTION:CLICK HERE FOR TICKETS! \n🪁 June Farms Kite Festival\nSaturday\, July 25 | 11:00 AM – 7:00 PM \nJoin us for a beautiful summer day at June Farms as our pastures fill with color for our first-ever Kite Festival. \nBring your own kite or simply come to relax\, explore\, and enjoy the magic of the farm as kites soar across the sky all day long. It’s the perfect outing for families\, friends\, and anyone looking to spend a laid-back summer day outdoors with a June Farms pilsener :) \nEnjoy wide open fields\, fresh air\, and all your favorite June Farms experiences Food and drinks available in the Pony Barn. \n✨ Festival Highlights: \n\nOpen kite flying throughout the day\nSpecial VIP Kites launching at 12PM\, 2PM & 4PM\nMeet all of our happy farm animals!\nPlenty of space for everyone 🪁\n\n🎟️ Admission:\n$10 per person (includes parking + farm admission)\nChildren 3 & under are free \n🍕🍺 Food & Drink:\nAvailable for purchase at the Pony Barn \n🐾 Dogs Welcome:\nFriendly\, leashed dogs are welcome to join \nWhat to Bring: \n\nA kite (optional — some will be available for purchase)\nPicnic blankets or chairs\nSunscreen & good summer vibes
URL:https://junefarms.com/event/kite-festival/
ATTACH;FMTTYPE=image/png:https://eadn-wc01-9006830.nxedge.io/wp-content/uploads/2026/04/Untitled-design-2.png
END:VEVENT
END:VCALENDAR